BEGIN:VCALENDAR
METHOD:PUBLISH
PRODID:-//LogicWorks GmbH//NONSGML Contentory//EN
VERSION:2.0
CALSCALE:GREGORIAN
X-MS-OLK-FORCEINSPECTOROPEN:TRUE
BEGIN:VEVENT
DTSTAMP:20260423T142951Z
SUMMARY:Dritter Start-up Market Biotech & Life Sciences
DESCRIPTION:Nach zwei sehr erfolgreichen Veranstaltungen findet am 10. September berei
 ts der dritte Start-up Market Biotech & Life Sciences in Düsseldorf statt
 . Er bietet Ausstellerplätze\, Pitch- und Vortragsslots und intensives Ne
 tzwerken.
LOCATION:Düsseldorf
CREATED:20260423T101753
LAST-MODIFIED:20260423T113956
DTSTART;VALUE=DATE:20260910T000000
DTEND;VALUE=DATE:20260910T235959
UID:sn_4021_date_0@logic-works.net
END:VEVENT
END:VCALENDAR