BEGIN:VCALENDAR
METHOD:PUBLISH
PRODID:-//LogicWorks GmbH//NONSGML Contentory//EN
VERSION:2.0
CALSCALE:GREGORIAN
X-MS-OLK-FORCEINSPECTOROPEN:TRUE
BEGIN:VEVENT
DTSTAMP:20260420T115724Z
SUMMARY:Info-Session: „Frauen erfinden – Dein Weg von der Idee zum Patent“
DESCRIPTION:Das Gleichstellungsbüro der RWTH Aachen und RWTH Innovation bieten gründ
 ungsinteressierten Frauen den Workshop zum Thema Patente an.
LOCATION:RWTH Innovation GmbH
CREATED:20251114T082319
LAST-MODIFIED:20251114T095134
DTSTART;VALUE=DATE:20251203T100000
DTEND;VALUE=DATE:20251203T130000
UID:sn_3525_date_0@logic-works.net
END:VEVENT
END:VCALENDAR