BEGIN:VCALENDAR
METHOD:PUBLISH
PRODID:-//LogicWorks GmbH//NONSGML Contentory//EN
VERSION:2.0
CALSCALE:GREGORIAN
X-MS-OLK-FORCEINSPECTOROPEN:TRUE
BEGIN:VEVENT
DTSTAMP:20260419T140140Z
SUMMARY:Tagung „innovation2business.nrw“
DESCRIPTION:Das Ministerium für Wirtschaft\, Industrie\, Klimaschutz und Energie des 
 Landes Nordrhein-Westfalen lädt zur Fachveranstaltung der innovation2busi
 ness.nrw-Community unter dem Motto „Zukunft gemeinsam gestalten – das 
 Innovationsnetzwerk für NRW“ in die Hochschule Düsseldorf ein.
LOCATION:Hochschule Düsseldorf
CREATED:20251107T102230
LAST-MODIFIED:20251107T115823
DTSTART;VALUE=DATE:20251201T133000
DTEND;VALUE=DATE:20251201T170000
UID:sn_3502_date_0@logic-works.net
END:VEVENT
END:VCALENDAR