BEGIN:VCALENDAR
METHOD:PUBLISH
PRODID:-//LogicWorks GmbH//NONSGML Contentory//EN
VERSION:2.0
CALSCALE:GREGORIAN
X-MS-OLK-FORCEINSPECTOROPEN:TRUE
BEGIN:VEVENT
DTSTAMP:20260424T040444Z
SUMMARY:Campus2Company @ LyondellBasell – Einblick in die Chemiebranche
DESCRIPTION:Am 12. März 2026 bietet Campus2Company jungen Talenten die Möglichkeit\,
  hinter die Kulissen von LyondellBasell zu blicken. Studierende\, Absolven
 tinnen\, Absolventen und Promovierende aus Chemie\, Ingenieur- und Verfahr
 enstechnik sowie verwandten MINT-Fächern erhalten Einblicke in Produktion
 \, Technologien und Unternehmensstrukturen – und können wertvolle Konta
 kte für Praktika\, Abschlussarbeiten oder den Direkteinstieg knüpfen.
LOCATION:LyondellBasell
CREATED:20260309T095005
LAST-MODIFIED:20260309T100823
DTSTART;VALUE=DATE:20260312T093000
DTEND;VALUE=DATE:20260312T123000
UID:sn_3815_date_0@logic-works.net
END:VEVENT
END:VCALENDAR