BEGIN:VCALENDAR
METHOD:PUBLISH
PRODID:-//LogicWorks GmbH//NONSGML Contentory//EN
VERSION:2.0
CALSCALE:GREGORIAN
X-MS-OLK-FORCEINSPECTOROPEN:TRUE
BEGIN:VEVENT
DTSTAMP:20260420T162100Z
SUMMARY:CHEMcologne Kooperationstag
DESCRIPTION:Der GrÃ¼ndungsservice Gateway der TH KÃ¶ln und die Initiative ChemCologne 
 e.V. und die FakultÃ¤t fÃ¼r Angewandte Naturwissenschaften an der TH laden
  zum jÃ¤hrlichen Kooperationstag mit Start-up Pitches und VortrÃ¤gen ein.Â
  
LOCATION:TH KÃ¶ln\, Campus Leverkusen
CREATED:20260416T152430
LAST-MODIFIED:20260417T091507
DTSTART;VALUE=DATE:20260423T133000
DTEND;VALUE=DATE:20260423T183000
UID:sn_3928_date_0@logic-works.net
END:VEVENT
END:VCALENDAR