BEGIN:VCALENDAR
METHOD:PUBLISH
PRODID:-//LogicWorks GmbH//NONSGML Contentory//EN
VERSION:2.0
CALSCALE:GREGORIAN
X-MS-OLK-FORCEINSPECTOROPEN:TRUE
BEGIN:VEVENT
DTSTAMP:20260423T141921Z
SUMMARY:Ringvorlesung: Entrepreneurship in der Praxis
DESCRIPTION:In der Ringvorlesung der FH Aachen erfahren Interessierte\, wie man ein St
 art-up aufbaut\, welche Herausforderungen es gibt und was in der Praxis wi
 rklich funktioniert.
LOCATION:FH Aachen\,
CREATED:20260423T093241
LAST-MODIFIED:20260423T125112
DTSTART;VALUE=DATE:20260421T173000
DTEND;VALUE=DATE:20260623T190000
UID:sn_4000_date_0@logic-works.net
END:VEVENT
END:VCALENDAR