BEGIN:VCALENDAR
METHOD:PUBLISH
PRODID:-//LogicWorks GmbH//NONSGML Contentory//EN
VERSION:2.0
CALSCALE:GREGORIAN
X-MS-OLK-FORCEINSPECTOROPEN:TRUE
BEGIN:VEVENT
DTSTAMP:20260423T141537Z
SUMMARY:Female Founders Contest – Halbfinale NRW
DESCRIPTION:Am 13. Mai 2026 findet in Köln das Halbfinale des deutschlandweiten Femal
 e Founders Cup für die Region Nordrhein-Westfalen statt. Die besten von F
 rauen gegründeten Start-ups aus Nordrhein-Westfalen pitchen um den Einzug
  ins Finale in Potsdam.
LOCATION:KPMG AG
CREATED:20260423T094506
LAST-MODIFIED:20260423T130011
DTSTART;VALUE=DATE:20260513T170000
DTEND;VALUE=DATE:20260513T220000
UID:sn_4006_date_0@logic-works.net
END:VEVENT
END:VCALENDAR