BEGIN:VCALENDAR
METHOD:PUBLISH
PRODID:-//LogicWorks GmbH//NONSGML Contentory//EN
VERSION:2.0
CALSCALE:GREGORIAN
X-MS-OLK-FORCEINSPECTOROPEN:TRUE
BEGIN:VEVENT
DTSTAMP:20260423T142747Z
SUMMARY:Workshop „Find your Idea“
DESCRIPTION:Alle\, die sich für Innovation und Start-ups interessieren\, aber noch ke
 ine Idee haben\, sind zu diesem Workshop eingeladen.
LOCATION:garage33
CREATED:20260423T100902
LAST-MODIFIED:20260423T113752
DTSTART;VALUE=DATE:20260527T140000
DTEND;VALUE=DATE:20260527T180000
UID:sn_4018_date_0@logic-works.net
END:VEVENT
END:VCALENDAR