BEGIN:VCALENDAR
METHOD:PUBLISH
PRODID:-//LogicWorks GmbH//NONSGML Contentory//EN
VERSION:2.0
CALSCALE:GREGORIAN
X-MS-OLK-FORCEINSPECTOROPEN:TRUE
BEGIN:VEVENT
DTSTAMP:20260423T141813Z
SUMMARY:Health Founders Ruhr Meetup
DESCRIPTION:Das nächste Treffen für Gründerinnen und Gründer sowie Interessierte a
 us dem Health Bereich findet Ende April in Duisburg statt. 
LOCATION:Anthropia
CREATED:20260423T091451
LAST-MODIFIED:20260423T132002
DTSTART;VALUE=DATE:20260428T173000
DTEND;VALUE=DATE:20260428T210000
UID:sn_3997_date_0@logic-works.net
END:VEVENT
END:VCALENDAR