BEGIN:VCALENDAR
METHOD:PUBLISH
PRODID:-//LogicWorks GmbH//NONSGML Contentory//EN
VERSION:2.0
CALSCALE:GREGORIAN
X-MS-OLK-FORCEINSPECTOROPEN:TRUE
BEGIN:VEVENT
DTSTAMP:20260423T141810Z
SUMMARY:HERHOOD Town: Be prepared – Female perspectives on success
DESCRIPTION:HERHOOD Town als Mission zur Förderung von Female Start-ups ist seit Begi
 nn 2026 Teil der Bryck Startup Alliance.
LOCATION:Essen
CREATED:20260423T102215
LAST-MODIFIED:20260423T114134
DTSTART;VALUE=DATE:20260923T000000
DTEND;VALUE=DATE:20260923T235959
UID:sn_4024_date_0@logic-works.net
END:VEVENT
END:VCALENDAR