BEGIN:VCALENDAR
METHOD:PUBLISH
PRODID:-//LogicWorks GmbH//NONSGML Contentory//EN
VERSION:2.0
CALSCALE:GREGORIAN
X-MS-OLK-FORCEINSPECTOROPEN:TRUE
BEGIN:VEVENT
DTSTAMP:20260423T142325Z
SUMMARY:Idea Generation Workshop
DESCRIPTION:Der Workshop der FernUniversität in Hagen hilft Gründungsinteressierten\
 , unternehmerische Probleme zu erkennen\, erste Ideen zu entwickeln und si
 e auf ihre Tragfähigkeit zu prüfen.
LOCATION:online
CREATED:20260423T093932
LAST-MODIFIED:20260423T113043
DTSTART;VALUE=DATE:20260512T180000
DTEND;VALUE=DATE:20260512T200000
UID:sn_4003_date_0@logic-works.net
END:VEVENT
END:VCALENDAR