BEGIN:VCALENDAR
METHOD:PUBLISH
PRODID:-//LogicWorks GmbH//NONSGML Contentory//EN
VERSION:2.0
CALSCALE:GREGORIAN
X-MS-OLK-FORCEINSPECTOROPEN:TRUE
BEGIN:VEVENT
DTSTAMP:20260423T142212Z
SUMMARY:PitchMiUp-Night
DESCRIPTION:Die Hochschule Bielefeld lädt zur zweiten PitchMiUp Night ein. Im Mittelp
 unkt stehen Start-up-Gründerinnen und -Gründer\, die ihre Ideen und Grü
 ndungsgeschichten präsentieren.
LOCATION:Hochschule Bielefeld\, Campus Minden
CREATED:20260423T100332
LAST-MODIFIED:20260423T125926
DTSTART;VALUE=DATE:20260521T180000
DTEND;VALUE=DATE:20260521T220000
UID:sn_4015_date_0@logic-works.net
END:VEVENT
END:VCALENDAR