BEGIN:VCALENDAR
METHOD:PUBLISH
PRODID:-//LogicWorks GmbH//NONSGML Contentory//EN
VERSION:2.0
CALSCALE:GREGORIAN
X-MS-OLK-FORCEINSPECTOROPEN:TRUE
BEGIN:VEVENT
DTSTAMP:20260423T142248Z
SUMMARY:REACH Start-up Night
DESCRIPTION:Gründerinnen\, Gründer und andere Player im Münsteraner Start-up Ökosy
 stems sind herzlich willkommen zur REACH Start-up Night.
LOCATION:REACH EUREGIO Start-up Center\,
CREATED:20260423T102637
LAST-MODIFIED:20260423T125831
DTSTART;VALUE=DATE:20260804T170000
DTEND;VALUE=DATE:20260804T235959
UID:sn_4027_date_0@logic-works.net
END:VEVENT
END:VCALENDAR