BEGIN:VCALENDAR
METHOD:PUBLISH
PRODID:-//LogicWorks GmbH//NONSGML Contentory//EN
VERSION:2.0
CALSCALE:GREGORIAN
X-MS-OLK-FORCEINSPECTOROPEN:TRUE
BEGIN:VEVENT
DTSTAMP:20260423T141937Z
SUMMARY:Gateway Start-up Spring School
DESCRIPTION:Vom 18. bis 22. Mai 2026 haben die Studierenden der Kölner Gateway-Hochsc
 hulen die Möglichkeit\, ihre Geschäftsideen zu entwickeln und zu pitchen
 .
LOCATION:The Ship
CREATED:20260423T095719
LAST-MODIFIED:20260423T125949
DTSTART;VALUE=DATE:20260518T100000
DTEND;VALUE=DATE:20260522T180000
UID:sn_4012_date_0@logic-works.net
END:VEVENT
END:VCALENDAR