BEGIN:VCALENDAR
METHOD:PUBLISH
PRODID:-//LogicWorks GmbH//NONSGML Contentory//EN
VERSION:2.0
CALSCALE:GREGORIAN
X-MS-OLK-FORCEINSPECTOROPEN:TRUE
BEGIN:VEVENT
DTSTAMP:20260424T204440Z
SUMMARY:Save the date: Workshop für die Start-up Center.NRW & Start-up Fokuszentr
 en.NRW
DESCRIPTION:Am 01. Juli 2026 findet in Münster ein gemeinsamer Workshop für die Star
 t-up Center.NRW und die Start-up Fokuszentren.NRW statt. 
LOCATION:Münster
CREATED:20260424T090523
LAST-MODIFIED:20260424T093943
DTSTART;VALUE=DATE:20260701T103000
DTEND;VALUE=DATE:20260701T173000
UID:sn_4054_date_0@logic-works.net
END:VEVENT
END:VCALENDAR